BEGIN:VCALENDAR
VERSION:2.0
PRODID:-//wildwechsel//wildwechsel.de//DE
METHOD:PUBLISH
CALSCALE:GREGORIAN
BEGIN:VEVENT
DTSTART:20260425T190000
DTEND:20260425T230000
LOCATION:Bürgerhaus Oststadt\, \, Essen
DTSTAMP:20260422T201643
SUMMARY:Ww-Terminator: Rockmusic im Bürgerhaus - Tisch 17 und Timeless Rockmusic - Essen
URL;VALUE=URI:https://www.wildwechsel.de/wildwechsel-terminator/event/rockmusic-im-buergerhaus-tisch-17-und-timeless-rockmusic-buergerhaus-oststadt-essen-267038/
CLASS:PUBLIC
DESCRIPTION:Zwei Bands live on Stage:

Tisch 17 sind ein Klanggewitter der besonderen Art: Das Ruhrpott-Trio sieht sich in der Tradition des Punk, ohne dort stehen geblieben zu sein. Seit jeher wird Metal mit Jazz gemischt, Wortwitz mit Albernheiten, Krawatten mit Chaos. Es geht um die Schwachheit der Wachheit, um zügellose Wut und Goldfischgläser, um Geschöpfe der Nacht und Philosophen, um Schubiduh und Schizophrenie. Tisch 17 sind in der Regel Elektrisch unterwegs, lieben aber auch die akustischen Abende: Mittendrin, das eigene Wort verstehen können, das entsetzte Lächeln des Besuchers vor Augen.

'Ready to rock Ruhrgebiet??? 'WE WILL ROCK YOU' Live Musik, ganz nah am Publikum. Egal ob in deinem Wohnzimmer oder im ausverkauften Stadion Timeless Rock Music ist 'DIE Partyband'. Sie machen einfach gute Laune! Mit Rockklassikern und aktuelleren Hits bringt die Cover-Band jedes Publikum zum feiern!
UID:20260422T201643-20260425T190000-20260425T230000
END:VEVENT
END:VCALENDAR