BEGIN:VCALENDAR
VERSION:2.0
PRODID:-//wildwechsel//wildwechsel.de//DE
METHOD:PUBLISH
CALSCALE:GREGORIAN
BEGIN:VEVENT
DTSTART:20260520T143000
DTEND:20260520T183000
LOCATION:Kawaii Restaurant\, \, Paderborn
DTSTAMP:20260423T053113
SUMMARY:Ww-Terminator: Paul & Stefan - Paderborn
URL;VALUE=URI:https://www.wildwechsel.de/%20wildwechsel-terminator/event/paul-stefan-kawaii-restaurant-paderborn-267268/
CLASS:PUBLIC
DESCRIPTION:Paul Stefan Duo - Pop, Rock & Soul im KAWAII
? 20. Mai ' 15:00-17:00 Uhr ' ? KAWAII, Modehaus Klingenthal, 2. OG
Am 20. Mai steht das KAWAII ganz im Zeichen von Pop, Rock & Soul: Das Paul Stefan Duo ('The German and the Scotch') bringt mit zwei Gitarren und zwei Stimmen Songs der letzten 60 Jahre auf die Bühne - von den Beatles bis Eric Clapton. Authentisch, energiegeladen und unplugged. Präsentiert in Zusammenarbeit mit Tonika e.V.
Eintritt frei, Reservierung empfohlen.
UID:20260423T053113-20260520T143000-20260520T183000
END:VEVENT
END:VCALENDAR