BEGIN:VCALENDAR
VERSION:2.0
PRODID:-//wildwechsel//wildwechsel.de//DE
METHOD:PUBLISH
CALSCALE:GREGORIAN
BEGIN:VEVENT
DTSTART:20260531T100000
DTEND:20260531T140000
LOCATION:Tierpark Sababurg\, \, Hofgeismar
DTSTAMP:20260422T220053
SUMMARY:Ww-Terminator: Ohren-, Zahn- & Krallenpflege beim Hund - Hofgeismar
URL;VALUE=URI:https://www.wildwechsel.de/wildwechsel-terminator/event/ohren-zahn-krallenpflege-beim-hund-tierpark-sababurg-hofgeismar-267174/
CLASS:PUBLIC
DESCRIPTION:Seminar zur Hundepflege im Tierpark Sababurg

Praxiswissen für gesunde Vierbeiner

Im Umweltbildungszentrum oberhalb des Tierpark Sababurg steht ein praxisnahes Seminar rund um die Ohren-, Zahn- und Krallenpflege beim Hund im Fokus. Unter fachkundiger Anleitung von Tierärztin Michaela Rehbein werden grundlegende Pflegemaßnahmen verständlich vermittelt und in einen alltagstauglichen Kontext gesetzt.

Pflege, Prävention und Anwendung

Die Veranstaltung zeigt, wie gesundheitliche Probleme frühzeitig erkannt und gezielt vermieden werden können. Dabei wird besonderer Wert auf eine stressfreie Umsetzung der Pflegeroutine gelegt. Die Inhalte reichen von der richtigen Kontrolle bis hin zur sicheren Anwendung im Alltag. Ziel ist es, das Wohlbefinden des Hundes langfristig zu unterstützen und unnötige Tierarztbesuche zu reduzieren.

Einblicke in die Entwicklung vom Wolf zum Hund

Im Anschluss an das Seminar folgt ein gemeinsamer Besuch des Wolfsrudels im Tierpark. Dabei werden spannende Zusammenhänge zwischen Wolf und Hund beleuchtet und Unterschiede anschaulich erklärt.

Rahmendaten und Teilnahme

Beginn ist um 10:00 Uhr, die Dauer beträgt etwa fünf Stunden. Der Teilnahmebeitrag liegt bei 35 Euro und beinhaltet ein Mittagessen in Form eines Eintopfs, Getränke sind nicht enthalten. Eigene Hunde können zur Veranstaltung mitgebracht werden.
UID:20260422T220053-20260531T100000-20260531T140000
END:VEVENT
END:VCALENDAR