BEGIN:VCALENDAR
VERSION:2.0
PRODID:-//wildwechsel//wildwechsel.de//DE
METHOD:PUBLISH
CALSCALE:GREGORIAN
BEGIN:VEVENT
DTSTART:20261203T130000
DTEND:20261203T170000
LOCATION:Innenstadt Brakel\, \, Brakel\, Westfalen
DTSTAMP:20260424T131734
SUMMARY:Ww-Terminator: Nikolausmarkt Brakel - Brakel, Westfalen
URL;VALUE=URI:https://www.wildwechsel.de/wildwechsel-terminator/event/nikolausmarkt-brakel-innenstadt-brakel-brakel-westfalen-267241/
CLASS:PUBLIC
DESCRIPTION:Nikolausmarkt Brakel 2026: Stimmungsvolle Eröffnung am 3. Dezember

Vom 3. bis zum 6. Dezember 2026 lädt der Nikolausmarkt auf den Marktplatz in Brakel zu vorweihnachtlichen Stunden in gemütlicher Atmosphäre ein. Organisiert wird die Veranstaltung vom Werbering Brakel e. V., der auch in diesem Jahr wieder ein abwechslungsreiches Programm vorbereitet.

Feierlicher Auftakt mit Nikolausbesuch

Der Donnerstag, 3. Dezember, steht ganz im Zeichen der offiziellen Eröffnung. Um 18 Uhr wird der Markt durch Bürgermeister Alexander Kleinschmidt feierlich eröffnet. Begleitet wird der Auftakt vom traditionellen Besuch des Nikolauses, der insbesondere für eine festliche Einstimmung sorgt und den Beginn des viertägigen Marktes markiert.

Gemütliche Atmosphäre auf dem Marktplatz

Der Nikolausmarkt präsentiert sich bewusst überschaubar und zeichnet sich durch seinen besonderen Charme aus. Zwischen geschmückten Tannenbäumen entsteht eine einladende Kulisse, die zum Verweilen einlädt. Auch am Eröffnungstag dürfen sich Besucherinnen und Besucher auf erste Programmpunkte und kleine Überraschungen freuen, die den Markt zu einem stimmungsvollen Treffpunkt in der Adventszeit machen.
UID:20260424T131734-20261203T130000-20261203T170000
END:VEVENT
END:VCALENDAR