BEGIN:VCALENDAR
VERSION:2.0
PRODID:-//wildwechsel//wildwechsel.de//DE
METHOD:PUBLISH
CALSCALE:GREGORIAN
BEGIN:VEVENT
DTSTART:20270116T200000
DTEND:20270117T000000
LOCATION:Stadthalle Kassel / Kongress Palais Kassel\, \, Kassel
DTSTAMP:20260417T162656
SUMMARY:Ww-Terminator: Neujahrskonzert - The Dark Tenor - Kassel
URL;VALUE=URI:https://www.wildwechsel.de/wildwechsel-terminator/event/neujahrskonzert-the-dark-tenor-stadthalle-kassel-kongress-palais-kassel-kassel-267019/
CLASS:PUBLIC
DESCRIPTION:Zum zweiten Mal gastiert Billy Andrews alias Dark Tenor in Philharmonien. Bekannt für seine Vergangenheit im Dresdner Kreuzchor und der Semperoper, verzaubert er sein Publikum mit einer einzigartigen Mischung aus klassischer Musik und modernen Elementen.

Begleitet wird er von seinem exquisiten Quartett-Ensemble, bestehend aus einem Konzertflügel, dem weltweit ersten 3D-gedruckten Cello und Percussion-Instrumenten. Diese Kombination sorgt für ein außergewöhnliches musikalisches Erlebnis. Fehlen wird die humorvolle Art von Billy und seinen Musiker selbstverständlich nicht.

Philharmonien, bekannt für ihre hervorragende Akustik, bieten den perfekten Rahmen für dieses Konzert. Der Saal, mit seiner beeindruckenden Architektur und Klangfülle, schafft eine Atmosphäre, die jedes Stück zum Leben erweckt. Lass dich von der magischen Verbindung aus Tradition und Innovation begeistern und beginne das neue Jahr mit einem unvergesslichen musikalischen Highlight.
UID:20260417T162656-20270116T200000-20270117T000000
END:VEVENT
END:VCALENDAR