BEGIN:VCALENDAR
VERSION:2.0
PRODID:-//wildwechsel//wildwechsel.de//DE
METHOD:PUBLISH
CALSCALE:GREGORIAN
BEGIN:VEVENT
DTSTART:20260521T200000
DTEND:20260522T000000
LOCATION:Stadthalle Bielefeld\, \, Bielefeld
DTSTAMP:20260424T102248
SUMMARY:Ww-Terminator: Momentum Tour ‘26 - greenbeats - Bielefeld
URL;VALUE=URI:https://www.wildwechsel.de/wildwechsel-terminator/event/momentum-tour-26-greenbeats-stadthalle-bielefeld-bielefeld-254588/
CLASS:PUBLIC
DESCRIPTION:Mitreißende Drum-Performances, atemberaubende Showeffekte,einzigartige Instrumentenbauten und Unterhaltung nonstop! Momentum Tour ’26 - das neue Programm!

Mit einer Inszenierung, die es bei greenbeats so noch nie gab, verspricht die Tour nie dagewesene Highlights - multidimensional und voller Überraschungen. Nach einer restlos ausverkauften Tour 2025 führen die greenbeats ihre Reise 2026 fort. Mit viel Kreativität und Innovation sowie einer eindrucksvollen Kombination aus musikalischem Können und humorvollen Inszenierungen eroberten sie im Sturm die Herzen ihres Publikums. Bekannt durch ihre Teilnahme beim RTL-Supertalent, TV-Auftritten bei Carmen Nebel und dem ZDF-Fernsehgarten sowie zwei gemeinsame Tourneen mit DJ BoBo begeisterte das Ensemble bereits über 500.000 Zuschauer*innen.

Von leisen und melodischen Klängen tonal abgestimmter Drums, über eine mitreißende Symbiose aus epischer Orchester-Musik und Live-Percussion, bis hin zu überraschenden Performances auf Alltagsgegenständen verspricht die Show ein unvergessliches Erlebnis
UID:20260424T102248-20260521T200000-20260522T000000
END:VEVENT
END:VCALENDAR