BEGIN:VCALENDAR
VERSION:2.0
PRODID:-//wildwechsel//wildwechsel.de//DE
METHOD:PUBLISH
CALSCALE:GREGORIAN
BEGIN:VEVENT
DTSTART:19700101T010000
DTEND:19700101T010000
LOCATION:Büssfeld\, \, \, Homberg (Efze)
DTSTAMP:20260422T224313
SUMMARY:Ww-Terminator: M:o:a - M.i.s.e 2026 - Homberg (Efze)
URL;VALUE=URI:https://www.wildwechsel.de/wildwechsel-terminator/event/moa-mise-2026-buessfeld-homberg-efze-267419/
CLASS:PUBLIC
DESCRIPTION:Das Festival wurde ursprünglich mit dem Ziel ins Leben gerufen, Nachwuchsbands aus der Rock- und Heavy-Metal-Szene eine Bühne zu bieten. Hinter der Veranstaltung steht ein eingetragener Heavy-Metal-Club aus Büßfeld bei Homberg (Ohm), der sich der Förderung einer offenen, unpolitischen und multikulturellen Musikkultur verschrieben hat. Im Fokus stehen faire Preise, eine zuverlässige technische Umsetzung und eine bewusst familiäre Atmosphäre.

Das Event erstreckt sich über mehrere Tage und kombiniert Live-Musik mit einem umfangreichen Campingangebot. Die Anreise ist ab Mittwoch ab dem späten Nachmittag möglich, während die Abreise bis Sonntagmittag vorgesehen ist. Campingflächen stehen für Besucher mit Wochenendtickets kostenfrei zur Verfügung, wobei – abhängig von den Wetterbedingungen – das Parken direkt am Zelt möglich ist.

Auf dem Gelände gilt ein konsequentes Sicherheits- und Ordnungskonzept. Glasbehälter sowie offene Feuer sind grundsätzlich untersagt, ebenso das Mitführen von Aggregaten ohne vorherige Genehmigung. Erlaubt sind hingegen bestimmte Grill- und Kochmöglichkeiten unter Einhaltung klarer Vorgaben. Auch Tiere dürfen nicht mitgebracht werden. Verstöße gegen die Regelungen können zum Ausschluss vom Festival führen.

Die Infrastruktur umfasst neben sanitären Einrichtungen auch Duschmöglichkeiten sowie ein vielfältiges gastronomisches Angebot. Besucher finden eine Auswahl von klassischen Imbissgerichten bis hin zu vegetarischen und veganen Speisen. Getränke sind auf dem Campingplatz erlaubt, jedoch nicht im Infield.

Barrierefreiheit wird ebenfalls berücksichtigt: Menschen mit entsprechendem Nachweis können eine Begleitperson kostenfrei mitbringen, zudem stehen barrierefreie Toiletten bereit. Für medizinische Versorgung sorgt ein Team vor Ort, unterstützt durch das Deutsche Rote Kreuz.

Ergänzt wird das Festivalerlebnis durch Merchandise-Stände, Workshops und zusätzliche Angebote. Hotels in der Umgebung bieten eine Alternative zum Camping. Insgesamt verbindet das Event musikalische Förderung mit einem durchdachten Rahmenprogramm und klaren Strukturen für ein sicheres und angenehmes Festivalwochenende.
UID:20260422T224313-19700101T010000-19700101T010000
END:VEVENT
END:VCALENDAR