BEGIN:VCALENDAR
VERSION:2.0
PRODID:-//wildwechsel//wildwechsel.de//DE
METHOD:PUBLISH
CALSCALE:GREGORIAN
BEGIN:VEVENT
DTSTART:20260527T190000
DTEND:20260527T230000
LOCATION:KFZ Marburg\, \, Marburg
DTSTAMP:20260419T135232
SUMMARY:Ww-Terminator: MittwochsTanzParty ' sashimi - Marburg
URL;VALUE=URI:https://www.wildwechsel.de/wildwechsel-terminator/event/mittwochstanzparty-sashimi-kfz-marburg-marburg-266642/
CLASS:PUBLIC
DESCRIPTION:Wilde Mischung aus Indie, Electro, Alternative, Rock, R´n´B, Dance


Einlass: 19 Uhr
Nur Abendkasse: 5 € (Garderobe inklusive)
UID:20260419T135232-20260527T190000-20260527T230000
END:VEVENT
END:VCALENDAR