BEGIN:VCALENDAR
VERSION:2.0
PRODID:-//wildwechsel//wildwechsel.de//DE
METHOD:PUBLISH
CALSCALE:GREGORIAN
BEGIN:VEVENT
DTSTART:20260613T190000
DTEND:20260613T230000
LOCATION:Stadthalle Brakel\, \, Brakel\, Westfalen
DTSTAMP:20260424T114033
SUMMARY:Ww-Terminator: Mittsommerball - DJK 'Adler 1920' Brakel e.V. - Brakel, Westfalen
URL;VALUE=URI:https://www.wildwechsel.de/wildwechsel-terminator/event/mittsommerball-djk-adler-1920-brakel-ev-stadthalle-brakel-brakel-westfalen-267245/
CLASS:PUBLIC
DESCRIPTION:Mittsommerball in Brakel: Tanzabend am 13. Juni 2026

Am 13. Juni 2026 lädt die Tanzabteilung der DJK Adler 1920 Brakel e.V. zum Mittsommerball in die Stadthalle Brakel ein. Die Veranstaltung beginnt um 19:00 Uhr und steht ganz im Zeichen von Tanz, Show und festlicher Abendgestaltung.

Showprogramm mit sportlichen Highlights

Auch in der siebten Ausgabe bietet der Mittsommerball ein abwechslungsreiches Bühnenprogramm. Mit dabei sind die Sportlerinnen und Sportler des TSV Wewer, die mit ihrer Rope-Skipping-Show sportliche Dynamik auf die Bühne bringen. Ergänzt wird das Programm durch Kim Otter mit ihrem Team sowie das Duo Klex, das in neuer Besetzung auftritt und für zusätzliche künstlerische Akzente sorgt.

Live-Musik für den perfekten Tanzabend

Für die musikalische Begleitung sorgt die NoLimit Band Warburg, die sich mit vielseitiger Tanzmusik einen Namen über die Region hinaus gemacht hat. Ihr Repertoire bietet die passende Grundlage für einen stimmungsvollen Abend auf der Tanzfläche und begleitet das Publikum durch die verschiedenen Programmpunkte.

Festliche Atmosphäre in der Stadthalle

Die Stadthalle Brakel bildet den passenden Rahmen für den Mittsommerball. Tischreservierungen ermöglichen eine individuelle Planung des Abends und unterstreichen den festlichen Charakter der Veranstaltung.
UID:20260424T114033-20260613T190000-20260613T230000
END:VEVENT
END:VCALENDAR