BEGIN:VCALENDAR
VERSION:2.0
PRODID:-//wildwechsel//wildwechsel.de//DE
METHOD:PUBLISH
CALSCALE:GREGORIAN
BEGIN:VEVENT
DTSTART:20261206T100000
DTEND:20261206T140000
LOCATION:Tierpark Sababurg\, \, Hofgeismar
DTSTAMP:20260423T183933
SUMMARY:Ww-Terminator: Mittelalterlicher Weihnachtsmarkt - Hofgeismar
URL;VALUE=URI:https://www.wildwechsel.de/%20wildwechsel-terminator/event/mittelalterlicher-weihnachtsmarkt-tierpark-sababurg-hofgeismar-267189/
CLASS:PUBLIC
DESCRIPTION:Mittelalterlicher Markt im Tierpark Sababurg

Historisches Markttreiben in besonderer Kulisse

Im Tierpark Sababurg lädt ein traditionsreicher Markt dazu ein, in die Welt des Mittelalters einzutauchen. Über zwei Tage hinweg entsteht ein lebendiges Bild vergangener Zeiten mit authentischen Darstellungen und vielfältigen Eindrücken.

Handwerk, Musik und Kulinarik

Alte Zünfte präsentieren ihr Können und geben Einblicke in traditionelle Handwerkskunst. Rittersleute, Marketenderinnen und weitere Darsteller sorgen für ein stimmungsvolles Gesamtbild. Mittelalterliche Musik begleitet das Geschehen und schafft eine passende Atmosphäre. Ergänzt wird das Angebot durch kulinarische Spezialitäten, die das Markterlebnis abrunden.

Öffnungszeiten und Ausblick

Der Markt ist am Samstag von 10:00 bis 20:00 Uhr und am Sonntag von 10:00 bis 18:00 Uhr geöffnet. Weitere Programmpunkte werden noch bekannt gegeben.
UID:20260423T183933-20261206T100000-20261206T140000
END:VEVENT
END:VCALENDAR