BEGIN:VCALENDAR
VERSION:2.0
PRODID:-//wildwechsel//wildwechsel.de//DE
METHOD:PUBLISH
CALSCALE:GREGORIAN
BEGIN:VEVENT
DTSTART:20260510T100000
DTEND:20260510T140000
LOCATION:Am Parkplatz der Pfarrkirche\, \, Brakel-Bellersern
DTSTAMP:20260424T113924
SUMMARY:Ww-Terminator: Mit den Blaukitteln durchs Masterholz - Brakel-Bellersern
URL;VALUE=URI:https://www.wildwechsel.de/wildwechsel-terminator/event/mit-den-blaukitteln-durchs-masterholz-am-parkplatz-der-pfarrkirche-brakel-bellersern-267257/
CLASS:PUBLIC
DESCRIPTION:Mit den Blaukitteln durchs Masterholz

Am 10. Mai 2026 lädt eine geführte Wanderung rund um Brakel-Bellersen dazu ein, literarische Schauplätze und regionale Geschichte miteinander zu verbinden. Start ist um 10:00 Uhr am Parkplatz der Pfarrkirche beziehungsweise an der Bushaltestelle Meinolfusstraße.

Literarische Spurensuche im Masterholz

Unter der Leitung von Naturparkführer Bernhard Aufenanger führt die rund sechs Kilometer lange Strecke in das sagenumwobene Waldgebiet „Masterholz“, bekannt aus der Erzählung „Die Judenbuche“ von Annette von Droste-Hülshoff. Die Route verläuft nördlich von Bellersen durch jene Landschaft, in der zentrale Szenen der literarischen Vorlage verortet sind, darunter der Konflikt zwischen Friedrich Mergel und dem Förster Brandis.

Stationen zwischen Geschichte und Literatur

Zu Beginn steht ein Besuch im Haus Krus auf dem Programm. Das kleine Museum widmet sich dem Leben und Werk der Dichterin sowie ihrer bekannten Erzählung. Im weiteren Verlauf führt die Tour auch zur Abbenburg, wo sich ein historischer Steintisch befindet, an dem Droste-Hülshoff Teile ihrer Werke verfasst haben soll. Von dort geht es zurück nach Bellersen.

Infos zur Teilnahme

Die Veranstaltung dauert etwa 3,5 Stunden. Die Teilnahmegebühr beträgt 5 Euro für Erwachsene und Kinder. Eine vorherige Anmeldung ist erforderlich.
UID:20260424T113924-20260510T100000-20260510T140000
END:VEVENT
END:VCALENDAR