BEGIN:VCALENDAR
VERSION:2.0
PRODID:-//wildwechsel//wildwechsel.de//DE
METHOD:PUBLISH
CALSCALE:GREGORIAN
BEGIN:VEVENT
DTSTART:19700101T010000
DTEND:19700101T010000
LOCATION:Innenstadt Brakel\, \, Brakel\, Westfalen
DTSTAMP:20260424T131654
SUMMARY:Ww-Terminator: Michaelismarkt - Brakel, Westfalen
URL;VALUE=URI:https://www.wildwechsel.de/wildwechsel-terminator/event/michaelismarkt-innenstadt-brakel-brakel-westfalen-267244/
CLASS:PUBLIC
DESCRIPTION:Michaelismarkt 2026 in Brakel: Markttag am 11. Oktober 2026

Der 11. Oktober 2026 steht ganz im Zeichen des zweiten Veranstaltungstages des Michaelismarktes. Nach dem feierlichen Auftakt am Samstag entwickelt sich der Sonntag traditionell zu einem lebendigen Markttag, der die Brakeler Innenstadt in einen zentralen Treffpunkt für Besucher aus der Region verwandelt.

Vielfältiges Programm in der Innenstadt

Im Verlauf des Tages prägen unterschiedliche Programmpunkte das Geschehen. Erfahrungsgemäß sorgen musikalische Beiträge, Aktionen für Familien sowie verschiedene Darbietungen auf zentralen Plätzen für eine abwechslungsreiche Atmosphäre. Gleichzeitig bieten zahlreiche Stände und lokale Anbieter ein breites Spektrum an kulinarischen Angeboten und herbstlichen Produkten.

Einkaufen und Begegnung im Mittelpunkt

Der Sonntag ist zudem eng mit dem lokalen Einzelhandel verknüpft. Die geöffneten Geschäfte laden zum entspannten Bummel durch die Innenstadt ein und ergänzen das Marktgeschehen. In Kombination mit gastronomischen Angeboten und dem vielfältigen Rahmenprogramm entsteht ein stimmiger Abschluss des Michaelismarktes, der den Charakter der Veranstaltung als gemeinschaftliches Ereignis unterstreicht.
UID:20260424T131654-19700101T010000-19700101T010000
END:VEVENT
END:VCALENDAR