BEGIN:VCALENDAR
VERSION:2.0
PRODID:-//wildwechsel//wildwechsel.de//DE
METHOD:PUBLISH
CALSCALE:GREGORIAN
BEGIN:VEVENT
DTSTART:20261010T180000
DTEND:20261010T220000
LOCATION:Innenstadt Brakel\, \, Brakel\, Westfalen
DTSTAMP:20260424T131724
SUMMARY:Ww-Terminator: Michaelismarkt - Brakel, Westfalen
URL;VALUE=URI:https://www.wildwechsel.de/wildwechsel-terminator/event/michaelismarkt-innenstadt-brakel-brakel-westfalen-267243/
CLASS:PUBLIC
DESCRIPTION:Michaelismarkt 2026 in Brakel: Auftakt am 10. Oktober 2026

Am 10. Oktober 2026 startet der traditionelle Michaelismarkt in der Brakeler Innenstadt und läutet damit ein herbstliches Veranstaltungswochenende ein. Organisiert vom Werbering Brakel e.V., bildet der Samstag den feierlichen Beginn des Marktes und zieht erfahrungsgemäß zahlreiche Besucher in die Innenstadt.

Eröffnung mit Fassanstich am Rathaus

Der offizielle Startschuss fällt am Abend vor dem Rathaus: Bürgermeister Alexander Kleinschmidt eröffnet gemeinsam mit dem Werberingvorsitzenden den Michaelismarkt mit dem traditionellen Fassanstich. Diese Zeremonie gehört zu den zentralen Momenten des ersten Veranstaltungstages und setzt den Rahmen für das anschließende Marktgeschehen.

Stimmungsvoller Auftakt in der Innenstadt

Bereits rund um die Eröffnung entwickelt sich eine lebendige Atmosphäre in der Innenstadt. Kulinarische Angebote, Begegnungen und ein abwechslungsreiches Umfeld prägen den ersten Markttag. Der Samstagabend gilt damit als wichtiger Auftakt, der die Grundlage für das gesamte Veranstaltungswochenende schafft.
UID:20260424T131724-20261010T180000-20261010T220000
END:VEVENT
END:VCALENDAR