BEGIN:VCALENDAR
VERSION:2.0
PRODID:-//wildwechsel//wildwechsel.de//DE
METHOD:PUBLISH
CALSCALE:GREGORIAN
BEGIN:VEVENT
DTSTART:20260606T190000
DTEND:20260606T230000
LOCATION:Alleeplatz Ziegenhain\, \, Schwalmstadt-Ziegenhain
DTSTAMP:20260419T181514
SUMMARY:Ww-Terminator: Malle Party zur Salatkirmes Ziegenhain - Lorenz Büffel & DJ Düse - Schwalmstadt-Ziegenhain
URL;VALUE=URI:https://www.wildwechsel.de/wildwechsel-terminator/event/malle-party-zur-salatkirmes-ziegenhain-lorenz-bueffel-dj-duese-alleeplatz-ziegenhain-schwalmstadt-ziegenhain-266062/
CLASS:PUBLIC
DESCRIPTION:Lorenz Büffel & DJ Düse live im Festzelt am Alleeplatz zur Ziegenhainer Salatkirmes 2026

Am 6. Juni 2026 steht das Festzelt am Alleeplatz ganz im Zeichen ausgelassener Partystimmung. Im Rahmen der Ziegenhainer Salatkirmes bringen Lorenz Büffel und DJ Düse ab 21 Uhr (Einlass ab 19 Uhr) geballte Ballermann-Energie in die Festungsstadt und sorgen für eine Nacht voller Feierlaune.

Ballermann-Atmosphäre bei der Ziegenhainer Salatkirmes

Mit Lorenz Büffel und DJ Düse stehen zwei feste Größen der deutschsprachigen Partyszene gemeinsam auf der Bühne. Ihre Auftritte sind bekannt für eingängige Hooks, mitreißende Beats und eine Show, die das Publikum vom ersten Song an mitnimmt. Im Festzelt am Alleeplatz entsteht so eine Atmosphäre, die an die legendären Partystrände Mallorcas erinnert – mitten in Ziegenhain.

Live-Show mit Hits und Kirmes-Sounds

Wenn Lorenz Büffel seine bekannten Partysongs anstimmt, ist kollektives Mitsingen garantiert. Seine energiegeladene Performance sorgt regelmäßig für ausgelassene Stimmung vor der Bühne. DJ Düse ergänzt das Live-Erlebnis mit einem treibenden Set aus Malle-Hymnen, Kult-Hits und eigenen Tracks. Die Mischung aus Live-Performance und DJ-Show bietet durchgehend Tempo und zahlreiche Feiermomente.

Das Publikum erwartet eine stimmungsstarke Live-Inszenierung, zahlreiche Mitsing-Passagen und echtes Partyfeeling im Festzelt am Alleeplatz. Damit zählt der Abend mit Lorenz Büffel und DJ Düse zu den Höhepunkten der Ziegenhainer Salatkirmes 2026.
UID:20260419T181514-20260606T190000-20260606T230000
END:VEVENT
END:VCALENDAR