BEGIN:VCALENDAR
VERSION:2.0
PRODID:-//wildwechsel//wildwechsel.de//DE
METHOD:PUBLISH
CALSCALE:GREGORIAN
BEGIN:VEVENT
DTSTART:20260424T230000
DTEND:20260425T030000
LOCATION:SOHO the Club\, \, Mannheim
DTSTAMP:20260422T154312
SUMMARY:Ww-Terminator: MA:ANDERS - Low House ' Hard House - Mannheim
URL;VALUE=URI:https://www.wildwechsel.de/wildwechsel-terminator/event/maanders-low-house-hard-house-soho-the-club-mannheim-267271/
CLASS:PUBLIC
DESCRIPTION:Low House & Hard House Night im SOHO Club Mannheim. Eintritt AK 6€. Einlass ab 23 Uhr bis 05 Uhr.
UID:20260422T154312-20260424T230000-20260425T030000
END:VEVENT
END:VCALENDAR