BEGIN:VCALENDAR
VERSION:2.0
PRODID:-//wildwechsel//wildwechsel.de//DE
METHOD:PUBLISH
CALSCALE:GREGORIAN
BEGIN:VEVENT
DTSTART:20260710T180000
DTEND:20260710T220000
LOCATION:Lippe Open Air Festivalgelände\, \, Lemgo
DTSTAMP:20260422T175406
SUMMARY:Ww-Terminator: Lippe Open Air 2026 - Mickie Krause, HBz, Almklausi, DJ Quicksilver, Niels Van Gogh, Basti M - Lemgo
URL;VALUE=URI:https://www.wildwechsel.de/wildwechsel-terminator/event/lippe-open-air-2026-mickie-krause-hbz-almklausi-dj-quicksilver-niels-van-gogh-basti-m-lippe-open-air-festivalgelaende-lemgo-266396/
CLASS:PUBLIC
DESCRIPTION:Freitag: 10.07.2026: 
Open Doors:  18 Uhr 

1 Stage: 
HBz, Mickie Krause, Almklausi, Killermichel, Breitner, Conner Meister, Wolfgang Petry Double, Suprise Act 
Supportet by :  DJ Mino & Van Keeken 

2 Stage:
DJ Quicksilver, Niels Van Gogh, Nikaa, Basti M, DJ Topit, Two B, Select Avenue, Jusse + Emil  

Lippe Open Air 2026: Pop, Schlager und Electronic unter freiem Himmel

Das Lippe Open Air 2026 bringt erneut ein vielseitiges Line-up auf das Festivalgelände. Ab 18:00 Uhr stehen zahlreiche Acts aus den Bereichen Pop, Schlager und Electronic auf der Bühne und sorgen für einen abwechslungsreichen Abend. Mit einer Mischung aus bekannten Namen und energiegeladenen Live-Performances zählt das Event zu den großen Open-Air-Partys der Region.

Starkes Line-up mit bekannten Acts

Zum Programm gehören unter anderem HBz, Ickie Krause, DJ Quicksilver, Killer Michel, Michael Schulte, Niels Van Gogh sowie Safri Duo. Die Künstler stehen für unterschiedliche musikalische Richtungen und sorgen damit für eine breite Klangpalette – von tanzbaren Electronic-Sounds über Party-Schlager bis hin zu Pop-Hits. Weitere Acts ergänzen das Programm und machen das Lippe Open Air 2026 zu einem vielseitigen Festivalabend.

Festivalstimmung auf dem Lippe Open Air Gelände

Das Festivalgelände bietet den passenden Rahmen für einen großen Open-Air-Abend mit Live-Musik und DJ-Sets. Die Kombination aus bekannten Künstlern, Festivalatmosphäre und einem abwechslungsreichen Programm sorgt für beste Stimmung bis in den Abend hinein. ?

Mit seinem Mix aus Pop, Schlager und Electronic positioniert sich das Lippe Open Air 2026 als musikalisches Highlight im Veranstaltungskalender und bringt zahlreiche Live-Acts auf eine Bühne.
UID:20260422T175406-20260710T180000-20260710T220000
END:VEVENT
END:VCALENDAR