BEGIN:VCALENDAR
VERSION:2.0
PRODID:-//wildwechsel//wildwechsel.de//DE
METHOD:PUBLISH
CALSCALE:GREGORIAN
BEGIN:VEVENT
DTSTART:20260711T160000
DTEND:20260711T200000
LOCATION:Lippe Open Air Festivalgelände\, \, Lemgo
DTSTAMP:20260422T193911
SUMMARY:Ww-Terminator: Lippe Open Air 2026 - Michael Schulte, Safri Duo, David Puentez, Jerome, Dari, Goldplay - Lemgo
URL;VALUE=URI:https://www.wildwechsel.de/wildwechsel-terminator/event/lippe-open-air-2026-michael-schulte-safri-duo-david-puentez-jerome-dari-goldplay-lippe-open-air-festivalgelaende-lemgo-266397/
CLASS:PUBLIC
DESCRIPTION:Samstag: 11.07.2026: 
Open Doors:  16 Uhr 

1 Stage: 
Michael Schulte, Safri Duo, Dari, Emil, Jorin Hagen & JHNWNDT
Goodbeats, Goldplay (Europas beste Coldplay Tribute Band)

Neu: Feuerwerk zum Abschluss des LOA 2026  (ca. 5 Minuten) 
Supportet by :  DJ Mino & Van Keeken 

2 Stage:
David Puentez, Jerome, Averro, Beauty & the Beats, Deliverz, Nicky Jones, Phil Good & Embique, Gewinner DJ Contest 2026

Lippe Open Air 2026: Pop, Schlager und Electronic unter freiem Himmel

Das Lippe Open Air 2026 bringt erneut ein vielseitiges Line-up auf das Festivalgelände. Ab 18:00 Uhr stehen zahlreiche Acts aus den Bereichen Pop, Schlager und Electronic auf der Bühne und sorgen für einen abwechslungsreichen Abend. Mit einer Mischung aus bekannten Namen und energiegeladenen Live-Performances zählt das Event zu den großen Open-Air-Partys der Region.

Starkes Line-up mit bekannten Acts

Zum Programm gehören unter anderem HBz, Ickie Krause, DJ Quicksilver, Killer Michel, Michael Schulte, Niels Van Gogh sowie Safri Duo. Die Künstler stehen für unterschiedliche musikalische Richtungen und sorgen damit für eine breite Klangpalette – von tanzbaren Electronic-Sounds über Party-Schlager bis hin zu Pop-Hits. Weitere Acts ergänzen das Programm und machen das Lippe Open Air 2026 zu einem vielseitigen Festivalabend.

Festivalstimmung auf dem Lippe Open Air Gelände

Das Festivalgelände bietet den passenden Rahmen für einen großen Open-Air-Abend mit Live-Musik und DJ-Sets. Die Kombination aus bekannten Künstlern, Festivalatmosphäre und einem abwechslungsreichen Programm sorgt für beste Stimmung bis in den Abend hinein. ?

Mit seinem Mix aus Pop, Schlager und Electronic positioniert sich das Lippe Open Air 2026 als musikalisches Highlight im Veranstaltungskalender und bringt zahlreiche Live-Acts auf eine Bühne.
UID:20260422T193911-20260711T160000-20260711T200000
END:VEVENT
END:VCALENDAR