BEGIN:VCALENDAR
VERSION:2.0
PRODID:-//wildwechsel//wildwechsel.de//DE
METHOD:PUBLISH
CALSCALE:GREGORIAN
BEGIN:VEVENT
DTSTART:20261106T190000
DTEND:20261106T230000
LOCATION:Europa-Saal OsnabrückHalle\, \, Osnabrück
DTSTAMP:20260419T195814
SUMMARY:Ww-Terminator: Liebe - Hagen Rether - Osnabrück
URL;VALUE=URI:https://www.wildwechsel.de/wildwechsel-terminator/event/liebe-hagen-rether-europa-saal-osnabrueckhalle-osnabrueck-267084/
CLASS:PUBLIC
DESCRIPTION:n aller Ausführlichkeit verknüpft Rether Aktuelles mit Vergessenem, Nahes mit Fernem, stellt infrage, bestreitet, zweifelt. An zentralen Glaubenssätzen westlicher „Zivilisation“ rüttelt er gründlich, sogenannte Sachzwänge gibt er als kollektive Fiktionen dem Gelächter preis. Mit überraschenden Vergleichen verführt er das Publikum zum Perspektivwechsel – zu einem anderen Blick auf die Welt, in die Zukunft, in den Spiegel, auch unbequemer Wahrheit ins Auge. Und er ruft dazu auf, dass wir uns von unserer vielfach instrumentalisierten Angst und Wut befreien.

Rethers LIEBE ist tragisch, komisch, schmerzhaft, ansteckend: Das ständig mutierende Programm mit dem immer gleichen Titel verursacht nachhaltige Unzufriedenheit mit einfachen Erklärungen und stiftet zum Selberdenken und -handeln an. Bis zu dreieinhalb Stunden plädiert der Kabarettist leidenschaftlich für Aufklärung und Mitgefühl, gegen Doppelmoral und konsumselige Wurstigkeit: Wandel ist möglich – wenn wir wollen.
UID:20260419T195814-20261106T190000-20261106T230000
END:VEVENT
END:VCALENDAR