BEGIN:VCALENDAR
VERSION:2.0
PRODID:-//wildwechsel//wildwechsel.de//DE
METHOD:PUBLISH
CALSCALE:GREGORIAN
BEGIN:VEVENT
DTSTART:20261011T140000
DTEND:20261011T180000
LOCATION:Tierpark Sababurg\, \, Hofgeismar
DTSTAMP:20260420T163059
SUMMARY:Ww-Terminator: Lichterfest - Hofgeismar
URL;VALUE=URI:https://www.wildwechsel.de/wildwechsel-terminator/event/lichterfest-tierpark-sababurg-hofgeismar-267182/
CLASS:PUBLIC
DESCRIPTION:Laternenfest im Tierpark Sababurg

Stimmungsvolles Lichterlebnis am Nachmittag und Abend

Im Tierpark Sababurg steht ein atmosphärisches Event rund um Licht, Kreativität und Gemeinschaft auf dem Programm. In den frühen Abendstunden sorgt die besondere Beleuchtung des Parks für eine eindrucksvolle Kulisse.

Vielfältiges Programm für Familien

Zwischen 14:00 und 20:00 Uhr erwartet die Besucher ein abwechslungsreiches Angebot. Neben einer Laternenbastelaktion bildet der gemeinsame Laternenlauf einen der Höhepunkte. Ergänzt wird das Programm durch Live-Musik, Kinderworkshops und Kinderschminken. Eine Feuershow sowie ein Lagerfeuer sorgen zusätzlich für besondere Akzente am Abend.
UID:20260420T163059-20261011T140000-20261011T180000
END:VEVENT
END:VCALENDAR