BEGIN:VCALENDAR
VERSION:2.0
PRODID:-//wildwechsel//wildwechsel.de//DE
METHOD:PUBLISH
CALSCALE:GREGORIAN
BEGIN:VEVENT
DTSTART:20260523T150000
DTEND:20260523T190000
LOCATION:Tif (Foyer)\, \, Kassel
DTSTAMP:20260422T232731
SUMMARY:Ww-Terminator: Leselust mit dem JUST⁺ - Kassel
URL;VALUE=URI:https://www.wildwechsel.de/wildwechsel-terminator/event/leselust-mit-dem-just-tif-foyer-kassel-267363/
CLASS:PUBLIC
DESCRIPTION:„Es war einmal …“ In regeläßigen Abständen lesen wir euch aus unseren und euren Lieblingskinderbüchern vor. Kommt dazu und taucht mit uns ein in die wunderbare Welt der Bücher.

 

Nächste Themen:

25. April: Wanderlust und Abenteuer - mit Aljoscha Langel

23. Mai: Mut zur Wut - mit Annett Kruschke
UID:20260422T232731-20260523T150000-20260523T190000
END:VEVENT
END:VCALENDAR