BEGIN:VCALENDAR
VERSION:2.0
PRODID:-//wildwechsel//wildwechsel.de//DE
METHOD:PUBLISH
CALSCALE:GREGORIAN
BEGIN:VEVENT
DTSTART:20260422T110000
DTEND:20260422T150000
LOCATION:Orchesterprobensaal Staatstheater Kassel\, \, Kassel
DTSTAMP:20260422T161804
SUMMARY:Ww-Terminator: Lauscher auf! - Kassel
URL;VALUE=URI:https://www.wildwechsel.de/wildwechsel-terminator/event/lauscher-auf-orchesterprobensaal-staatstheater-kassel-kassel-261425/
CLASS:PUBLIC
DESCRIPTION:Bei Lauscher auf! gibt es für die Jüngsten einiges zu erleben. Auf Sitzkissen rücken wir im Orchesterprobensaal ganz nah an das Geschehen. Zusammen mit unseren Musiker:innen aus verschiedenen Instrumentengruppen erzählen wir spannende Geschichten zum Mitmachen.


 

Der Eintritt kostet 3 Euro je teilnehmendes Kind, begleitende Erwachsenen erhalten freien Eintritt.

 

 

 
 


 

 

JUST | Konzert
Orch.raum
für Kinder von 4 bis 6 Jahren
mit Musiker:innen des Staatstorchesters kassel
Treffpunkt Opernfoyer | Dauer: ca. 1 Stunde

Moderation:  
Laura Wikert
UID:20260422T161804-20260422T110000-20260422T150000
END:VEVENT
END:VCALENDAR