BEGIN:VCALENDAR
VERSION:2.0
PRODID:-//wildwechsel//wildwechsel.de//DE
METHOD:PUBLISH
CALSCALE:GREGORIAN
BEGIN:VEVENT
DTSTART:20260607T180000
DTEND:20260607T220000
LOCATION:Schloss Rheder\, \, Brakel-Rheder
DTSTAMP:20260420T214846
SUMMARY:Ww-Terminator: Landluftkonzert in Rheder - Brakel-Rheder
URL;VALUE=URI:https://www.wildwechsel.de/wildwechsel-terminator/event/landluftkonzert-in-rheder-schloss-rheder-brakel-rheder-267229/
CLASS:PUBLIC
DESCRIPTION:Landluftkonzert Rheder 2026: Filmmusik unter freiem Himmel

Am 7. Juni 2026 lädt die Nordwestdeutsche Philharmonie erneut zum Landluftkonzert nach Rheder ein. Beginn des Konzerts ist um 18:00 Uhr, bereits ab 15:00 Uhr öffnet das Gelände rund um Schloss Rheder für Besucherinnen und Besucher.

Open-Air-Erlebnis im historischen Ambiente

Das Konzert findet vor der Kulisse von Schloss Rheder statt und zählt zu den etablierten Kulturveranstaltungen der Region. Die Kombination aus Musik und ländlicher Atmosphäre macht den besonderen Reiz dieses Formats aus. Bereits vor Konzertbeginn besteht die Möglichkeit, das Gelände zu erkunden und regionale Spezialitäten zu genießen.

Filmmusik im Fokus des Programms

Inhaltlich steht eine musikalische Reise durch bekannte Filmmusiken im Mittelpunkt. Auf dem Programm stehen unter anderem Kompositionen aus „Star Wars“, „Forrest Gump“, „James Bond – Skyfall“, „Gladiator“, „Pirates of the Caribbean“ und „Zurück in die Zukunft“. Ergänzt wird das Repertoire durch bekannte Titel wie „Hedwig’s Theme“ aus „Harry Potter“, die Titelmelodie aus „Mission: Impossible“ sowie „My Heart Will Go On“ aus „Titanic“.

Hochkarätige Besetzung

Mit Sopranistin Julia Bauer wirkt eine international gefragte Solistin mit, die das Programm mit ausdrucksstarken Interpretationen ergänzt. Die musikalische Leitung übernimmt Dirigent Frank Beermann, der für seine Expertise im Bereich großer Orchesterwerke bekannt ist.

Tickets und Vorverkauf

Der Eintritt beträgt 40,00 Euro, ermäßigte Karten sind für 20,00 Euro erhältlich. Kinder und Jugendliche unter 18 Jahren haben freien Eintritt. Tickets sind im Vorverkauf unter anderem bei der Brauerei Rheder, im Bürgerbüro der Stadt Brakel, im Herrenhaus Fischer sowie in regionalen Bankfilialen erhältlich. Restkarten können an der Abendkasse erworben werden.
UID:20260420T214846-20260607T180000-20260607T220000
END:VEVENT
END:VCALENDAR