BEGIN:VCALENDAR
VERSION:2.0
PRODID:-//wildwechsel//wildwechsel.de//DE
METHOD:PUBLISH
CALSCALE:GREGORIAN
BEGIN:VEVENT
DTSTART:20260510T160000
DTEND:20260510T200000
LOCATION:Hof Hartmann\, \, Brakel\, Westfalen
DTSTAMP:20260420T181125
SUMMARY:Ww-Terminator: Kuschelhofführung - Brakel, Westfalen
URL;VALUE=URI:https://www.wildwechsel.de/wildwechsel-terminator/event/kuschelhoffuehrung-hof-hartmann-brakel-westfalen-267222/
CLASS:PUBLIC
DESCRIPTION:Kuschelhofführung in Brakel-Hampenhausen: Tiere hautnah erleben

Am 10. Mai 2026 bietet der Hof Hartmann in Brakel-Hampenhausen eine besondere Form der Hofführung an. Die sogenannte Kuschelhofführung beginnt um 16:00 Uhr und richtet sich an alle, die Landwirtschaft und Tiere aus nächster Nähe kennenlernen möchten.

Direkter Kontakt zu Tieren

Im Gegensatz zu klassischen Hofführungen steht hier das unmittelbare Erlebnis im Vordergrund. Besucherinnen und Besucher erhalten Zugang zu den Stallungen und haben die Möglichkeit, Tiere nicht nur zu beobachten, sondern auch zu streicheln oder auf den Arm zu nehmen. Zum Hof gehören unter anderem Ziegen, Pferde, Schafe, Hühner, Kaninchen und Meerschweinchen.

Erlebnisangebot mit Zusatzoption

Die Teilnahme an der Kuschelhofführung kostet 10,00 Euro und beinhaltet einen kleinen Snack. Ergänzend besteht die Möglichkeit, alternativ an einer Ziegenwanderung teilzunehmen, die das Angebot um eine aktive Komponente erweitert.

Anmeldung und Organisation

Eine vorherige Anmeldung ist erforderlich. Weitere Informationen sind per E-Mail erhältlich. Veranstaltungsort ist der Hof Hartmann in der Parkstraße in Brakel-Hampenhausen.
UID:20260420T181125-20260510T160000-20260510T200000
END:VEVENT
END:VCALENDAR