BEGIN:VCALENDAR
VERSION:2.0
PRODID:-//wildwechsel//wildwechsel.de//DE
METHOD:PUBLISH
CALSCALE:GREGORIAN
BEGIN:VEVENT
DTSTART:20260503T150000
DTEND:20260503T190000
LOCATION:Marktplatz Brakel\, \, Brakel\, Westfalen
DTSTAMP:20260420T195439
SUMMARY:Ww-Terminator: Kurkonzert in Brakel - Musikverein Bökendorf - Brakel, Westfalen
URL;VALUE=URI:https://www.wildwechsel.de/wildwechsel-terminator/event/kurkonzert-in-brakel-musikverein-boekendorf-marktplatz-brakel-brakel-westfalen-267220/
CLASS:PUBLIC
DESCRIPTION:Kurkonzert Brakel 2026: Open-Air-Musik auf dem Marktplatz

Am 3. Mai 2026 lädt die Stadt Brakel zum ersten Kurkonzert des Jahres auf den Marktplatz ein. Beginn ist um 15:00 Uhr. Die traditionsreiche Veranstaltungsreihe steht für entspannte Live-Musik unter freiem Himmel bei freiem Eintritt.

Heimische Musikvereine sorgen für Atmosphäre

Den Auftakt der diesjährigen Kurkonzerte gestaltet der Musikverein Bökendorf. Mit einem abwechslungsreichen Repertoire sorgt das Ensemble für musikalische Unterhaltung und schafft eine angenehme Atmosphäre im Herzen der Innenstadt.

Kostenfreies Kulturangebot unter freiem Himmel

Die Kurkonzerte gehören seit Jahren zum festen Bestandteil des Brakeler Veranstaltungskalenders. Sie bieten die Gelegenheit, lokale Musikvereine und Chöre in ungezwungener Umgebung zu erleben. Der Eintritt ist frei, wodurch das Format bewusst niederschwellig gehalten ist und ein breites Publikum anspricht.

Veranstaltungsort ist der Marktplatz in Brakel. Veranstalter ist die Stadt Brakel.
UID:20260420T195439-20260503T150000-20260503T190000
END:VEVENT
END:VCALENDAR