BEGIN:VCALENDAR
VERSION:2.0
PRODID:-//wildwechsel//wildwechsel.de//DE
METHOD:PUBLISH
CALSCALE:GREGORIAN
BEGIN:VEVENT
DTSTART:20260426T193000
DTEND:20260426T233000
LOCATION:Schauspielhaus Staatstheater Kassel\, \, Kassel
DTSTAMP:20260422T224222
SUMMARY:Ww-Terminator: König Lear - Kassel
URL;VALUE=URI:https://www.wildwechsel.de/wildwechsel-terminator/event/koenig-lear-schauspielhaus-staatstheater-kassel-kassel-267386/
CLASS:PUBLIC
DESCRIPTION:„Welche von euch liebt mich am meisten?“, fragt König Lear seine drei Töchter Goneril, Regan und Cordelia, um sein Reich nach dem beschworenen Liebesbekenntnis gerecht unter ihnen aufzuteilen. Doch er verrechnet sich: Ausgerechnet seine liebste Tochter Cordelia weist den Liebeswettbewerb zurück und fordert stattdessen Ehrlichkeit. Lear – außer sich vor Wut – verbannt sie und teilt sein Land unter den anderen beiden Töchtern auf. Bedingung: Er und sein Gefolge werden Monat für Monat abwechselnd von einer der beiden verpflegt und untergebracht. Doch Goneril und Regan sind dieser Forderung schnell überdrüssig, wollen ihn loswerden und entmachten ihn bei der erstbesten Gelegenheit. Der einstmals große König, gänzlich auf die nackte menschliche Existenz reduziert, verfällt zunehmend dem Wahnsinn, von allen verlassen – außer seinem Hofnarren. Da kommt Meldung aus Frankreich, dass die verbannte Cordelia ein Heer aufgestellt hat, um ihn zu retten und gegen die eigenen Schwestern zu kämpfen. Eine beispiellose Gewaltspirale wird in Gang gesetzt. An ihrem Ende sind alle tot. Fast.

 

Wie sieht es heute aus, wenn ein Herrscher abtritt und sein Land oder seinen Besitz der nächsten Generation übergibt? Ändern sich damit Machtstrukturen? Thomas Melle bleibt in seiner Bearbeitung zwar nah an der Handlung des Originals, verschiebt jedoch wichtige Akzente hin zu einem zeitgemäßen Generationenkonflikt und katapultiert das Stück auch sprachlich ins Heute, in eine Welt im Umbruch. In dieser Welt kämpfen verfeindete Lager mit Hilfe von „alternativen Wahrheiten“, niemand diskutiert miteinander, stattdessen ringen alle hasserfüllt um Deutungshoheit. Doch was hält die Weltgemeinschaft noch zusammen, wenn sie von keiner gemeinsam geteilten Wahrheit mehr getragen wird?

 

In der Regie von Lars-Ole Walburg, bekannt in Kassel unter anderem als Regisseur von Singletreff (UA), Auf Wache (UA) und Der Funke Leben (UA), entwickelt sich Shakespeares grausame Tragödie zu einem düsteren Sinnbild für unsere moderne Gesellschaft, in der sich verschiedene Weltanschauungen und Realitäten ohne Kommunikationsbereitschaft unversöhnlich gegenüberstehen – und Machtgier die einzige Konstante bleibt.

 

In Kooperation mit dem Fachgebiet Literaturwissenschaft Anglistik und Amerikanistik der Universität Kassel.
UID:20260422T224222-20260426T193000-20260426T233000
END:VEVENT
END:VCALENDAR