BEGIN:VCALENDAR
VERSION:2.0
PRODID:-//wildwechsel//wildwechsel.de//DE
METHOD:PUBLISH
CALSCALE:GREGORIAN
BEGIN:VEVENT
DTSTART:20260524T150000
DTEND:20260524T190000
LOCATION:Tierpark Sababurg\, \, Hofgeismar
DTSTAMP:20260419T211855
SUMMARY:Ww-Terminator: Kirche auf der Bank - Hofgeismar
URL;VALUE=URI:https://www.wildwechsel.de/wildwechsel-terminator/event/kirche-auf-der-bank-tierpark-sababurg-hofgeismar-267173/
CLASS:PUBLIC
DESCRIPTION:40 Jahre Gesellschaft des Bosnischen Gebirgspferdes e.V.

Jubiläum mit Aktionstag auf dem Bauernhof

Zum 40-jährigen Bestehen lädt die Gesellschaft des Bosnischen Gebirgspferdes e.V. zu einem vielseitigen Aktionstag auf dem Bauernhof ein. Im Mittelpunkt steht die traditionsreiche Pferderasse, die im Rahmen eines informativen und unterhaltsamen Programms näher vorgestellt wird.

Programm rund um das Bosnische Gebirgspferd

Zwischen 11:00 und 16:00 Uhr erwartet die Besucher ein abwechslungsreicher Tag mit Vorführungen und einem Infostand, der Einblicke in Zucht, Haltung und Besonderheiten der Tiere bietet. Das Angebot richtet sich an Familien ebenso wie an Interessierte, die mehr über diese robuste Pferderasse erfahren möchten.

Weitere Programmpunkte werden noch bekannt gegeben.
UID:20260419T211855-20260524T150000-20260524T190000
END:VEVENT
END:VCALENDAR