BEGIN:VCALENDAR
VERSION:2.0
PRODID:-//wildwechsel//wildwechsel.de//DE
METHOD:PUBLISH
CALSCALE:GREGORIAN
BEGIN:VEVENT
DTSTART:20261011T150000
DTEND:20261011T190000
LOCATION:Tierpark Sababurg\, \, Hofgeismar
DTSTAMP:20260420T150816
SUMMARY:Ww-Terminator: Kirche auf der Bank - Hofgeismar
URL;VALUE=URI:https://www.wildwechsel.de/wildwechsel-terminator/event/kirche-auf-der-bank-tierpark-sababurg-hofgeismar-267171/
CLASS:PUBLIC
DESCRIPTION:So 11.Okt 2026 um 15:00 im Tierpark Sababurg
UID:20260420T150816-20261011T150000-20261011T190000
END:VEVENT
END:VCALENDAR