BEGIN:VCALENDAR
VERSION:2.0
PRODID:-//wildwechsel//wildwechsel.de//DE
METHOD:PUBLISH
CALSCALE:GREGORIAN
BEGIN:VEVENT
DTSTART:20261004T150000
DTEND:20261004T190000
LOCATION:Tierpark Sababurg\, \, Hofgeismar
DTSTAMP:20260423T183757
SUMMARY:Ww-Terminator: Kirche auf der Bank - Hofgeismar
URL;VALUE=URI:https://www.wildwechsel.de/%20wildwechsel-terminator/event/kirche-auf-der-bank-tierpark-sababurg-hofgeismar-267170/
CLASS:PUBLIC
DESCRIPTION:So 04.Okt 2026 um 15:00 im Tierpark Sababurg
UID:20260423T183757-20261004T150000-20261004T190000
END:VEVENT
END:VCALENDAR