BEGIN:VCALENDAR
VERSION:2.0
PRODID:-//wildwechsel//wildwechsel.de//DE
METHOD:PUBLISH
CALSCALE:GREGORIAN
BEGIN:VEVENT
DTSTART:20260501T150000
DTEND:20260501T190000
LOCATION:Tierpark Sababurg\, \, Hofgeismar
DTSTAMP:20260419T224632
SUMMARY:Ww-Terminator: Kirche auf der Bank - Hofgeismar
URL;VALUE=URI:https://www.wildwechsel.de/wildwechsel-terminator/event/kirche-auf-der-bank-tierpark-sababurg-hofgeismar-267169/
CLASS:PUBLIC
DESCRIPTION:Fr 01.Mai 2026 um 15:00 im Tierpark Sababurg
UID:20260419T224632-20260501T150000-20260501T190000
END:VEVENT
END:VCALENDAR