BEGIN:VCALENDAR
VERSION:2.0
PRODID:-//wildwechsel//wildwechsel.de//DE
METHOD:PUBLISH
CALSCALE:GREGORIAN
BEGIN:VEVENT
DTSTART:20260503T150000
DTEND:20260503T190000
LOCATION:Tierpark Sababurg\, \, Hofgeismar
DTSTAMP:20260419T223129
SUMMARY:Ww-Terminator: Kirche auf der Bank - Hofgeismar
URL;VALUE=URI:https://www.wildwechsel.de/%20wildwechsel-terminator/event/kirche-auf-der-bank-tierpark-sababurg-hofgeismar-267157/
CLASS:PUBLIC
DESCRIPTION:Kirche auf der Bank im Tierpark Sababurg

Neues Begegnungsformat der KiT

Das Jahresprogramm der Kirche im Tierpark richtet sich 2026 neu aus. Anstelle des bisherigen Formats „Gute halbe Stunde“ tritt ein offenes Angebot unter dem Titel „Kirche auf der Bank“. Im Mittelpunkt stehen ungezwungene Gespräche und persönliche Begegnungen in entspannter Umgebung.

Sonntagnachmittage an der Kirchenscheune

Zwischen Mai und Oktober findet das Angebot regelmäßig sonntags von 15:00 bis 16:00 Uhr vor der Kirchenscheune im Tierpark Sababurg statt. Die Treffen bieten Raum für Austausch und gemeinsames Verweilen in ruhiger Atmosphäre.

Hinweise zur Durchführung

Das Format entfällt an Tagen, an denen Veranstaltungen des Tierparks stattfinden oder kirchliche Feiern wie Taufen und Trauungen geplant sind.
UID:20260419T223129-20260503T150000-20260503T190000
END:VEVENT
END:VCALENDAR