BEGIN:VCALENDAR
VERSION:2.0
PRODID:-//wildwechsel//wildwechsel.de//DE
METHOD:PUBLISH
CALSCALE:GREGORIAN
BEGIN:VEVENT
DTSTART:20260514T180000
DTEND:20260514T220000
LOCATION:Quartier am Markt\, \, Hofgeismar
DTSTAMP:20260422T220040
SUMMARY:Ww-Terminator: Kann denn Liebe Sünde sein? - Kesse Kerle - Hofgeismar
URL;VALUE=URI:https://www.wildwechsel.de/wildwechsel-terminator/event/kann-denn-liebe-suende-sein-kesse-kerle-quartier-am-markt-hofgeismar-267284/
CLASS:PUBLIC
DESCRIPTION:Wohnzimmerkonzert mit den Kessen Kerlen in Hofgeismar

Das Kulturforum Hofgeismar e. V. setzt gemeinsam mit dem Quartier am Markt die Reihe der Wohnzimmerkonzerte fort und präsentiert mit den Kessen Kerlen einen musikalischen Abend in besonderer Atmosphäre.

Chansons zwischen Nostalgie und Neuinterpretation

Unter dem Titel „Kann denn Liebe Sünde sein?“ widmen sich Mario Leck und Uwe Reiners deutschen Liedern und Chansons aus den 1920er- bis 1940er-Jahren. Die Stücke, die einst als künstlerischer Kontrast zu den gesellschaftlichen Spannungen jener Zeit entstanden, werden von den beiden Musikern neu interpretiert. Mehrstimmiger Gesang trifft auf gefühlvolle Soloparts und verleiht den Klassikern eine frische Klangfarbe.

Neben den musikalischen Darbietungen bereichern ausgewählte Texte und humorvolle Einlagen – unter anderem inspiriert von Brecht, Kästner und Ringelnatz – das Programm und sorgen für abwechslungsreiche Unterhaltung.

Swing, Soul und überraschende Klangwelten

Das Repertoire der Kessen Kerle reicht von klassischen Chansons bis hin zu neu arrangierten Versionen, die stilistisch über Swing, Blues und Soul bis zu südamerikanischen Rhythmen hinausgehen. Bekannte Melodien erscheinen dabei in einem neuen Gewand und eröffnen ungewohnte Hörerlebnisse.

Der Eintritt ist frei, Spenden zur Unterstützung der Veranstaltung sind willkommen.
UID:20260422T220040-20260514T180000-20260514T220000
END:VEVENT
END:VCALENDAR