BEGIN:VCALENDAR
VERSION:2.0
PRODID:-//wildwechsel//wildwechsel.de//DE
METHOD:PUBLISH
CALSCALE:GREGORIAN
BEGIN:VEVENT
DTSTART:20260510T150000
DTEND:20260510T190000
LOCATION:Erwin-Piscator-Haus - Stadthalle Marburg\, \, Marburg
DTSTAMP:20260424T072754
SUMMARY:Ww-Terminator: Irgendwas Bestimmtes - Bummelkasten - Marburg
URL;VALUE=URI:https://www.wildwechsel.de/wildwechsel-terminator/event/irgendwas-bestimmtes-bummelkasten-erwin-piscator-haus-stadthalle-marburg-marburg-248362/
CLASS:PUBLIC
DESCRIPTION:So 10.Mai 2026 um 15:00 im Erwin-Piscator-Haus - Stadthalle Marburg
UID:20260424T072754-20260510T150000-20260510T190000
END:VEVENT
END:VCALENDAR