BEGIN:VCALENDAR
VERSION:2.0
PRODID:-//wildwechsel//wildwechsel.de//DE
METHOD:PUBLISH
CALSCALE:GREGORIAN
BEGIN:VEVENT
DTSTART:20260426T210000
DTEND:20260427T010000
LOCATION:Nörgelbuff\, \, Göttingen
DTSTAMP:20260419T193427
SUMMARY:Ww-Terminator: Interim Solo & Instrumental Tour - Katzenjammer und andere Geschichten - Jeff Aug - Göttingen
URL;VALUE=URI:https://www.wildwechsel.de/wildwechsel-terminator/event/interim-solo-instrumental-tour-katzenjammer-und-andere-geschichten-jeff-aug-noergelbuff-goettingen-266979/
CLASS:PUBLIC
DESCRIPTION:Seit über zwanzig Jahren tourt der Gitarrist Jeff Aug mit Dark-Wave-Legende Anne Clark durch die Welt – so begleitete er im vergangenen Jahr die Grande Dame der elektronischen Musik auf ihrer ausverkauften Europatournee.
 
Bis Ende März war der gebürtige US-Amerikaner als Support für Chad Wackerman, der vor allem durch seine Zusammenarbeit mit Frank Zappa bekannt wurde, und The L.A. All-Stars auf großer Europatournee.
 
Jetzt präsentiert er als Solokünstler sein gerade erschienenes, zehntes Akustik-Instrumentalalbum „Interim“ in ausgewählten Städten in Deutschland. Fans der Akustikgitarre dürfen sich auf virtuose Fingerstyle-Technik und persönliche, intime Songs freuen.
UID:20260419T193427-20260426T210000-20260427T010000
END:VEVENT
END:VCALENDAR