BEGIN:VCALENDAR
VERSION:2.0
PRODID:-//wildwechsel//wildwechsel.de//DE
METHOD:PUBLISH
CALSCALE:GREGORIAN
BEGIN:VEVENT
DTSTART:20260918T200000
DTEND:20260919T000000
LOCATION:Phönix Theaterwelt Wittenberg\, \, Lutherstadt Wittenberg
DTSTAMP:20260423T164804
SUMMARY:Ww-Terminator: Im Fluss. Täglich quellfrisch, immer aktuell! - Urban Priol - Lutherstadt Wittenberg
URL;VALUE=URI:https://www.wildwechsel.de/wildwechsel-terminator/event/im-fluss-taeglich-quellfrisch-immer-aktuell-urban-priol-phoenix-theaterwelt-wittenberg-lutherstadt-wittenberg-267431/
CLASS:PUBLIC
DESCRIPTION:<p><strong>Urban Priol – „Im Fluss“ in der Lutherstadt Wittenberg</strong></p>
<p>Am 18. September 2026 ist Urban Priol mit seinem aktuellen Programm „Im Fluss. Täglich quellfrisch, immer aktuell!“ in der Phönix Theaterwelt Wittenberg zu Gast. Beginn der Veranstaltung ist um 20:00 Uhr.</p>
<h3>Politisches Kabarett mit Schärfe und Tempo</h3>
<p>Das Programm steht für tagesaktuelles Kabarett, das politische Entwicklungen aufgreift und pointiert einordnet. Urban Priol kombiniert analytische Schärfe mit humorvoller Zuspitzung und entwickelt daraus einen Abend, der gleichermaßen unterhält und zum Nachdenken anregt.</p>
<h3>Dynamisches Programm mit Aktualitätsbezug</h3>
<p>„Im Fluss“ bleibt bewusst beweglich: Inhalte werden stetig angepasst, wodurch jede Aufführung einen eigenen Charakter erhält. Die Verbindung aus Erfahrung, Spontaneität und inhaltlicher Präzision sorgt für eine lebendige Bühnenperformance.</p>
<p>Mit seiner langjährigen Karriere zählt Urban Priol zu den prägenden Persönlichkeiten des deutschen Politkabaretts und bietet ein Programm, das den Zeitgeist treffend einfängt.</p>
<p><strong>Termin:</strong> Freitag, 18. September 2026<br /><strong>Beginn:</strong> 20:00 Uhr<br /><strong>Ort:</strong> Phönix Theaterwelt Wittenberg e. V., Lutherstadt Wittenberg</p>
UID:20260423T164804-20260918T200000-20260919T000000
END:VEVENT
END:VCALENDAR