BEGIN:VCALENDAR
VERSION:2.0
PRODID:-//wildwechsel//wildwechsel.de//DE
METHOD:PUBLISH
CALSCALE:GREGORIAN
BEGIN:VEVENT
DTSTART:20260917T200000
DTEND:20260918T000000
LOCATION:Die Wühlmäuse Berlin\, \, Berlin
DTSTAMP:20260423T164713
SUMMARY:Ww-Terminator: Im Fluss. Täglich quellfrisch, immer aktuell! - Urban Priol - Berlin
URL;VALUE=URI:https://www.wildwechsel.de/wildwechsel-terminator/event/im-fluss-taeglich-quellfrisch-immer-aktuell-urban-priol-die-wuehlmaeuse-berlin-berlin-267429/
CLASS:PUBLIC
DESCRIPTION:Urban Priol – „Im Fluss“ in Berlin

Am 16. September 2026 gastiert Urban Priol mit seinem Programm „Im Fluss. Täglich quellfrisch, immer aktuell!“ in der Berliner Kabarettbühne Die Wühlmäuse. Beginn der Vorstellung ist um 20:00 Uhr.

### Politisches Kabarett mit Aktualitätsanspruch

Das Bühnenprogramm steht für pointierte Analyse des politischen Tagesgeschehens. Urban Priol verbindet scharfsinnige Beobachtungen mit humorvoller Zuspitzung und greift dabei kontinuierlich aktuelle Entwicklungen auf. Die Inhalte sind bewusst flexibel gehalten und werden fortlaufend angepasst.

### Ein Abend zwischen Satire und Zeitdiagnose

„Im Fluss“ zeichnet sich durch eine lebendige Dramaturgie aus, bei der Improvisation und Erfahrung ineinandergreifen. Die Kombination aus analytischer Tiefe und unterhaltsamer Präsentation sorgt für ein Programm, das gleichermaßen informiert und unterhält.

Mit seiner langjährigen Bühnenpräsenz zählt Urban Priol zu den etablierten Stimmen des deutschen Kabaretts und bietet einen Abend, der politische Themen aus unterschiedlichen Perspektiven beleuchtet.

**Termin:** Mittwoch, 16. September 2026
**Beginn:** 20:00 Uhr
**Ort:** Die Wühlmäuse, Berlin
UID:20260423T164713-20260917T200000-20260918T000000
END:VEVENT
END:VCALENDAR