BEGIN:VCALENDAR
VERSION:2.0
PRODID:-//wildwechsel//wildwechsel.de//DE
METHOD:PUBLISH
CALSCALE:GREGORIAN
BEGIN:VEVENT
DTSTART:20260925T200000
DTEND:20260926T000000
LOCATION:Bamberger Konzert- und Kongresshalle\, \, Bamberg
DTSTAMP:20260423T164811
SUMMARY:Ww-Terminator: Im Fluss. Täglich quellfrisch, immer aktuell! - Urban Priol - Bamberg
URL;VALUE=URI:https://www.wildwechsel.de/wildwechsel-terminator/event/im-fluss-taeglich-quellfrisch-immer-aktuell-urban-priol-bamberger-konzert-und-kongresshalle-bamberg-267434/
CLASS:PUBLIC
DESCRIPTION:Fr 25.Sep 2026 um 20:00 im Bamberger Konzert- und Kongresshalle
UID:20260423T164811-20260925T200000-20260926T000000
END:VEVENT
END:VCALENDAR