BEGIN:VCALENDAR
VERSION:2.0
PRODID:-//wildwechsel//wildwechsel.de//DE
METHOD:PUBLISH
CALSCALE:GREGORIAN
BEGIN:VEVENT
DTSTART:20261004T070000
DTEND:20261004T110000
LOCATION:Tierpark Sababurg\, \, Hofgeismar
DTSTAMP:20260423T184110
SUMMARY:Ww-Terminator: Hirschbrunftführungen im Tierpark Sababurg! - Hofgeismar
URL;VALUE=URI:https://www.wildwechsel.de/%20wildwechsel-terminator/event/hirschbrunftfuehrungen-im-tierpark-sababurg-tierpark-sababurg-hofgeismar-267194/
CLASS:PUBLIC
DESCRIPTION:Hirschbrunftführungen im Tierpark Sababurg

Faszinierendes Naturschauspiel hautnah erleben

Während der Hirschbrunft bietet der Tierpark Sababurg eindrucksvolle Führungen zu einem der spektakulärsten Naturereignisse des Jahres. Wenn die Hirsche mit markanten Rufen durch den Wald ziehen und um die Gunst der Weibchen konkurrieren, entsteht eine besondere Atmosphäre, die sich nur zu dieser Zeit erleben lässt.

Geführte Touren mit spannenden Einblicken

Die rund zweistündigen Führungen werden von zertifizierten Gästeführern begleitet und vermitteln fundiertes Wissen über Verhalten, Lebensweise und Besonderheiten der Tiere während der Brunftzeit. Mit etwas Glück lassen sich die Hirsche bei ihren Ritualen und Kämpfen beobachten, während ihre Rufe weithin hörbar sind.

Zwei Varianten zur Auswahl

Für das Erlebnis stehen zwei unterschiedliche Termine zur Verfügung:
Am Abend beginnt die Führung um 18:00 Uhr und endet mit einem rustikalen Eintopfessen an der Elch-Lodge.
Die Morgentour startet um 7:00 Uhr und wird mit einem reichhaltigen Frühstücksbuffet abgeschlossen. Eine Ausnahme bildet der letzte Termin am 28. September, der mit einem Frühstück im Gasthaus endet.

Hinweise zur Teilnahme

Die Teilnehmerzahl ist begrenzt, daher wird eine frühzeitige Buchung empfohlen. Die angegebenen Ticketpreise beziehen sich ausschließlich auf die Führung sowie das jeweilige Essensangebot. Der reguläre Eintritt in den Tierpark ist zusätzlich am Veranstaltungstag zu entrichten, ausgenommen sind Inhaber einer gültigen Jahreskarte.
UID:20260423T184110-20261004T070000-20261004T110000
END:VEVENT
END:VCALENDAR