BEGIN:VCALENDAR
VERSION:2.0
PRODID:-//wildwechsel//wildwechsel.de//DE
METHOD:PUBLISH
CALSCALE:GREGORIAN
BEGIN:VEVENT
DTSTART:20261224T143000
DTEND:20261224T183000
LOCATION:Tierpark Sababurg\, \, Hofgeismar
DTSTAMP:20260423T183830
SUMMARY:Ww-Terminator: Heiligabend-Gottesdienst in der Kirchenscheune - Hofgeismar
URL;VALUE=URI:https://www.wildwechsel.de/%20wildwechsel-terminator/event/heiligabend-gottesdienst-in-der-kirchenscheune-tierpark-sababurg-hofgeismar-267191/
CLASS:PUBLIC
DESCRIPTION:Weihnachtsgottesdienst im Tierpark Sababurg

Besinnlicher Auftakt zur Weihnachtszeit

Im Tierpark Sababurg bietet ein festlicher Gottesdienst die Gelegenheit, sich in ruhiger Atmosphäre auf die Weihnachtszeit einzustimmen. Die Veranstaltung beginnt um 14:30 Uhr und schafft einen besinnlichen Rahmen im besonderen Umfeld des Tierparks.
UID:20260423T183830-20261224T143000-20261224T183000
END:VEVENT
END:VCALENDAR