BEGIN:VCALENDAR
VERSION:2.0
PRODID:-//wildwechsel//wildwechsel.de//DE
METHOD:PUBLISH
CALSCALE:GREGORIAN
BEGIN:VEVENT
DTSTART:20261025T120000
DTEND:20261025T160000
LOCATION:Tierpark Sababurg\, \, Hofgeismar
DTSTAMP:20260419T204131
SUMMARY:Ww-Terminator: Halloween - Hofgeismar
URL;VALUE=URI:https://www.wildwechsel.de/wildwechsel-terminator/event/halloween-tierpark-sababurg-hofgeismar-267184/
CLASS:PUBLIC
DESCRIPTION:So 25.Okt 2026 um 12:00 im Tierpark Sababurg
UID:20260419T204131-20261025T120000-20261025T160000
END:VEVENT
END:VCALENDAR