BEGIN:VCALENDAR
VERSION:2.0
PRODID:-//wildwechsel//wildwechsel.de//DE
METHOD:PUBLISH
CALSCALE:GREGORIAN
BEGIN:VEVENT
DTSTART:20261024T120000
DTEND:20261024T160000
LOCATION:Tierpark Sababurg\, \, Hofgeismar
DTSTAMP:20260419T195407
SUMMARY:Ww-Terminator: Halloween - Hofgeismar
URL;VALUE=URI:https://www.wildwechsel.de/wildwechsel-terminator/event/halloween-tierpark-sababurg-hofgeismar-267183/
CLASS:PUBLIC
DESCRIPTION:Gruselfest im Tierpark Sababurg

Schaurig-schöne Stimmung für die ganze Familie

Im Tierpark Sababurg steht ein abwechslungsreiches Event mit herbstlich-düsterer Atmosphäre auf dem Programm. Zwischen 12:00 und 18:00 Uhr sorgen verschiedene Aktionen für ein unterhaltsames Erlebnis mit leichtem Gruselfaktor.

Mitmachaktionen und besondere Highlights

Das Angebot reicht vom Kürbislaternen-Schnitzen über Kinderschminken bis hin zu spannenden Begegnungen mit Hexe Walpurga, die mit unheimlichen Geschichten für Stimmung sorgt. Ein besonderes Highlight bildet die abendliche Raubtierfütterung, die einen eindrucksvollen Einblick in das Verhalten der Tiere ermöglicht.

Weitere Programmpunkte werden noch bekannt gegeben.
UID:20260419T195407-20261024T120000-20261024T160000
END:VEVENT
END:VCALENDAR