BEGIN:VCALENDAR
VERSION:2.0
PRODID:-//wildwechsel//wildwechsel.de//DE
METHOD:PUBLISH
CALSCALE:GREGORIAN
BEGIN:VEVENT
DTSTART:20261209T200000
DTEND:20261210T000000
LOCATION:Haus der Springmaus Bonn\, \, Bonn
DTSTAMP:20260421T020502
SUMMARY:Ww-Terminator: Guter Dinge - Quichotte - Bonn
URL;VALUE=URI:https://www.wildwechsel.de/wildwechsel-terminator/event/guter-dinge-quichotte-haus-der-springmaus-bonn-bonn-267069/
CLASS:PUBLIC
DESCRIPTION:Quichotte bringt so einiges zusammen, was es für einen gelungenen Abend braucht: der Künstler aus Köln vereint Rap und Comedy und überzeugt das Publikum mit urbanen Hip-Hop-Rhythmen, urkomischen Geschichten und scharfsinnigen Gedanken. 2026 ist er wieder auf den Bühnen des Landes unterwegs und sorgt mit seinen Programmen „Alles echt.“ und „Guter Dinge“ 
Mittlerweile ist der Künstler auch als Autor und Stand-up-Comedian erfolgreich und gewinnt zahlreiche Preise, darunter der Deutsche Kabarettpreis. Besonders beliebt auch in den Sozialen Medien sind Quichottes Darbietungen „Beim Lieblingsbäcker“. Diesen gewitzten Dialogen widmet der Kölner eine eigene Leseshow.

Quichotte ist ein linguistisches Genie und kämpft mit klugen Ideen, spitzer Zunge und musikalischem Talent gegen die Windmühlen der seichten Unterhaltung. Erlebe Quichotte live
UID:20260421T020502-20261209T200000-20261210T000000
END:VEVENT
END:VCALENDAR