BEGIN:VCALENDAR
VERSION:2.0
PRODID:-//wildwechsel//wildwechsel.de//DE
METHOD:PUBLISH
CALSCALE:GREGORIAN
BEGIN:VEVENT
DTSTART:20260613T190000
DTEND:20260613T230000
LOCATION:Hof Hartmann\, \, Brakel\, Westfalen
DTSTAMP:20260422T171518
SUMMARY:Ww-Terminator: Gesellschaftsspiele - Brakel, Westfalen
URL;VALUE=URI:https://www.wildwechsel.de/wildwechsel-terminator/event/gesellschaftsspiele-hof-hartmann-brakel-westfalen-267246/
CLASS:PUBLIC
DESCRIPTION:Spielabend auf Hof Hartmann in Brakel-Hampenhausen am 13. Juni 2026

Am 13. Juni 2026 findet erneut der monatliche Spielabend auf dem Hof Hartmann statt. Beginn ist um 19:00 Uhr im Gesellschaftsraum, der eine entspannte Umgebung für gemeinschaftliche Aktivitäten bietet.

Regelmäßiges Treffen in familiärer Atmosphäre

Das Format ist als offenes, ungezwungenes Beisammensein angelegt und richtet sich an alle, die Freude an Gesellschaftsspielen und Austausch haben. Als fester Termin am zweiten Samstag im Monat hat sich der Spielabend als regelmäßiger Treffpunkt etabliert.

Kostenfrei und unkompliziert

Die Teilnahme ist kostenlos, wodurch der Zugang bewusst niedrigschwellig gehalten wird. Organisiert wird das Treffen von Ina Hartmann, die auch als Ansprechpartnerin für weitere Informationen und Anmeldungen zur Verfügung steht.
UID:20260422T171518-20260613T190000-20260613T230000
END:VEVENT
END:VCALENDAR