BEGIN:VCALENDAR
VERSION:2.0
PRODID:-//wildwechsel//wildwechsel.de//DE
METHOD:PUBLISH
CALSCALE:GREGORIAN
BEGIN:VEVENT
DTSTART:20260425T193000
DTEND:20260425T233000
LOCATION:Movement-Theater\, \, Bielefeld
DTSTAMP:20260425T033958
SUMMARY:Ww-Terminator: Geschichten für Gitarren - Duo Bergerac - Bielefeld
URL;VALUE=URI:https://www.wildwechsel.de/wildwechsel-terminator/event/geschichten-fuer-gitarren-duo-bergerac-movement-theater-bielefeld-267471/
CLASS:PUBLIC
DESCRIPTION:Ticketlink: https://www.movement-bielefeld.com/Items/duo-bergerac


Sommer 1989: Karin Scholz und Peter Ernst besteigen den Nachtzug München-Rom. Ihr Ziel ist ein Gitarrenwettbewerb im Süden der ewigen Stadt. Aus der musikalischen Konkurrenz treten die beiden Teenager als Sieger hervor. Es ist das letzte Mal, dass die beiden Talente gegeneinander antreten: Sie beschließen gemeinsame Sache zu machen, gründen das DUO BERGERAC und gewinnen in den folgenden Jahren mehrere nationale und internationale Preise in Deutschland, Frankreich und Spanien. Inzwischen sind neun Alben des Duos veröffentlicht und unzählige Konzerte in ganz Europa und den USA absolviert. 

Am Samstag, 25. April ist das Duo Bergerac im Bielefelder Movement Theater am Haller Weg zu erleben. Musik von den Beatles, Minimal-Musik, argentinische Tango-Klassiker und brasilianische Rhythmen, aber auch erstaunliche Geschichten von tragbaren Kassettengeräten, römischen Aquädukten und seufzenden Bandoneons werden da zu hören sein. 

Eintrittskarten können reserviert werden unter https://www.movement-bielefeld.com/Items/duo-bergerac. Restkarten sind an der Konzertkasse erhältlich.
UID:20260425T033958-20260425T193000-20260425T233000
END:VEVENT
END:VCALENDAR