BEGIN:VCALENDAR
VERSION:2.0
PRODID:-//wildwechsel//wildwechsel.de//DE
METHOD:PUBLISH
CALSCALE:GREGORIAN
BEGIN:VEVENT
DTSTART:20260530T140000
DTEND:20260530T180000
LOCATION:Apothekenmuseum\, \, Hofgeismar
DTSTAMP:20260422T220046
SUMMARY:Ww-Terminator: Führung im Apothekenmuseum - Hofgeismar
URL;VALUE=URI:https://www.wildwechsel.de/wildwechsel-terminator/event/fuehrung-im-apothekenmuseum-apothekenmuseum-hofgeismar-267285/
CLASS:PUBLIC
DESCRIPTION:Öffentliche Führung im Apothekenmuseum Hofgeismar

Das Apothekenmuseum Hofgeismar bietet eine öffentliche Führung an, die spannende Einblicke in die Entwicklung des Apothekenwesens ermöglicht. Über mehrere Etagen hinweg wird der Wandel des Berufsalltags von der Vergangenheit bis in die Gegenwart anschaulich dargestellt.

Einblicke in Geschichte und Alltag der Apotheke

Begleitet von Christa Figur führt der Rundgang durch verschiedene Stationen der Apothekengeschichte. Dabei werden auch ungewöhnliche Aspekte beleuchtet, etwa die Bedeutung von Kino, Schokolade oder Tabak im historischen Kontext. Interaktive Elemente und Mitmach-Stationen ergänzen die Führung und sorgen für ein abwechslungsreiches Erlebnis.

Kostenfreie Teilnahme ohne Anmeldung

Die Dauer der Führung beträgt rund 90 Minuten. Die Teilnahme ist kostenfrei und kann ohne vorherige Anmeldung erfolgen.
UID:20260422T220046-20260530T140000-20260530T180000
END:VEVENT
END:VCALENDAR