BEGIN:VCALENDAR
VERSION:2.0
PRODID:-//wildwechsel//wildwechsel.de//DE
METHOD:PUBLISH
CALSCALE:GREGORIAN
BEGIN:VEVENT
DTSTART:20260425T140000
DTEND:20260425T180000
LOCATION:Apothekenmuseum\, \, Hofgeismar
DTSTAMP:20260422T220031
SUMMARY:Ww-Terminator: Führung im Apothekenmuseum - Hofgeismar
URL;VALUE=URI:https://www.wildwechsel.de/wildwechsel-terminator/event/fuehrung-im-apothekenmuseum-apothekenmuseum-hofgeismar-267283/
CLASS:PUBLIC
DESCRIPTION:Öffentliche Führung im Apothekenmuseum Hofgeismar

Das Apothekenmuseum Hofgeismar lädt zu einer öffentlichen Führung durch seine Ausstellung in der Apothekenstraße 5 in 34369 Hofgeismar ein. Auf fünf Etagen eröffnet sich ein spannender Einblick in die Entwicklung des Apothekenalltags von früher bis in die Gegenwart.

Zeitreise durch die Geschichte der Apotheke

Begleitet wird die Führung von Christa Figur, die die Besucherinnen und Besucher mit auf eine abwechslungsreiche Reise durch die Geschichte des Apothekerwesens nimmt. Dabei geht es unter anderem um überraschende Verbindungen zu Kino, Schokolade und sogar Tabak. Ergänzt wird der Rundgang durch verschiedene Mitmach-Stationen, die zusätzliche Einblicke ermöglichen.

Kostenfreie Teilnahme ohne Anmeldung

Die Führung dauert rund eineinhalb Stunden. Der Eintritt ist frei, eine Anmeldung ist nicht erforderlich. Veranstalter ist das Apothekenmuseum Hofgeismar. Der nächste Termin für eine Museumsführung im Stadtmuseum Hofgeismar ist der 30. Mai.
UID:20260422T220031-20260425T140000-20260425T180000
END:VEVENT
END:VCALENDAR