BEGIN:VCALENDAR
VERSION:2.0
PRODID:-//wildwechsel//wildwechsel.de//DE
METHOD:PUBLISH
CALSCALE:GREGORIAN
BEGIN:VEVENT
DTSTART:20260425T110000
DTEND:20260425T150000
LOCATION:Tierpark Sababurg\, \, Hofgeismar
DTSTAMP:20260419T211844
SUMMARY:Ww-Terminator: Frühlingsmarkt im Tierpark Sababurg - Hofgeismar
URL;VALUE=URI:https://www.wildwechsel.de/wildwechsel-terminator/event/fruehlingsmarkt-im-tierpark-sababurg-tierpark-sababurg-hofgeismar-267152/
CLASS:PUBLIC
DESCRIPTION:<p><strong>Frühlingsmarkt am Samstag: Regionale Vielfalt im Mittelpunkt</strong></p>
<p>Am Samstag, den 25. April, öffnet der Frühlingsmarkt von 11:00 bis 18:00 Uhr seine Tore und präsentiert eine breite Auswahl an regionalen Spezialitäten. Mehr als 80 Anbieter aus der Umgebung bieten ihre Erzeugnisse direkt an und stehen für authentische Qualität sowie handwerkliche Herstellung.</p>
<p><strong>Genuss aus der Region</strong></p>
<p>Das Angebot reicht von Kuhmilch- und Ziegenkäse über traditionelle Hausmacherwurst bis hin zu Honig und besonderen Honigvariationen. Ergänzt wird die Auswahl durch Säfte von Streuobstwiesen, aromatische Liköre sowie Kräuteröle, Essige und Gewürze. Auch Teeliebhaber finden hier passende Sorten aus regionaler Produktion.</p>
<p><strong>Frisch zubereitete Spezialitäten vor Ort</strong></p>
<p>Neben den Marktständen sorgen frisch zubereitete Speisen für kulinarische Abwechslung. Bauernhof-Eis, Waffeln sowie gefüllte Fladenbrote aus dem Holzofen bieten vielfältige Möglichkeiten für eine genussvolle Pause während des Marktbesuchs.</p>
UID:20260419T211844-20260425T110000-20260425T150000
END:VEVENT
END:VCALENDAR