BEGIN:VCALENDAR
VERSION:2.0
PRODID:-//wildwechsel//wildwechsel.de//DE
METHOD:PUBLISH
CALSCALE:GREGORIAN
BEGIN:VEVENT
DTSTART:20260514T130000
DTEND:20260514T170000
LOCATION:Festzelt Innenstadt Brakel\, \, Brakel\, Westfalen
DTSTAMP:20260420T221647
SUMMARY:Ww-Terminator: Frühlingskirmes Brakel - Brakel, Westfalen
URL;VALUE=URI:https://www.wildwechsel.de/wildwechsel-terminator/event/fruehlingskirmes-brakel-festzelt-innenstadt-brakel-brakel-westfalen-267216/
CLASS:PUBLIC
DESCRIPTION:Brakeler Stadtfest 2026: Innenstadt feiert von Mai bis Sonntag

Vom 14. bis 17. Mai 2026 steht Brakel im Zeichen eines vielseitigen Veranstaltungswochenendes. Während das Stadtfest von Freitag, 15. Mai, bis Sonntag, 17. Mai, in der Innenstadt geplant ist, startet die Frühlingskirmes bereits am Donnerstag, 14. Mai, am Feuerteich. Schauplätze des Festgeschehens sind unter anderem die Bereiche Hanekamp, Am Markt und Am Thy.

Abwechslungsreiches Programm in der Brakeler Innenstadt

Auch 2026 setzt der Werbering Brakel auf ein breit gefächertes Angebot für unterschiedliche Interessen. Besucherinnen und Besucher erwartet ein lebendiges Stadtfest mit Live-Musik, Flohmarkt, Gesundheitsmeile und Kirmes. Ergänzt wird das Programm durch verschiedene Mitmach- und Familienangebote, die für zusätzliche Abwechslung sorgen.

Frühlingskirmes ab 14. Mai

Bereits einen Tag vor dem offiziellen Start des Stadtfests beginnt die Frühlingskirmes am Feuerteich. Damit erweitert sich das Veranstaltungsprogramm auf insgesamt vier Tage. Geplant sind klassische Kirmeselemente und Attraktionen, die das Festwochenende in Brakel um ein zusätzliches Freizeitangebot ergänzen.

Verkaufsoffener Sonntag als weiterer Höhepunkt

Ein besonderer Programmpunkt ist der verkaufsoffene Sonntag am 17. Mai 2026. In der Zeit von 13 bis 18 Uhr lädt der Einzelhandel zum Bummeln und Einkaufen ein. Damit verbindet das Stadtfest Brakel Unterhaltung, Stadtleben und Einkaufsangebot in einem kompakten Veranstaltungsformat.

Veranstaltungsort ist die Innenstadt Brakel. Organisiert wird die Veranstaltung vom Werbering Brakel e.V.
UID:20260420T221647-20260514T130000-20260514T170000
END:VEVENT
END:VCALENDAR