BEGIN:VCALENDAR
VERSION:2.0
PRODID:-//wildwechsel//wildwechsel.de//DE
METHOD:PUBLISH
CALSCALE:GREGORIAN
BEGIN:VEVENT
DTSTART:20270110T200000
DTEND:20270111T000000
LOCATION:Theaterstübchen\, \, Kassel
DTSTAMP:20260417T064743
SUMMARY:Ww-Terminator: Final Boss Tour - Alexandr Misko - Kassel
URL;VALUE=URI:https://www.wildwechsel.de/wildwechsel-terminator/event/final-boss-tour-alexandr-misko-theaterstuebchen-266431/
CLASS:PUBLIC
DESCRIPTION:Gitarrist, Komponist, Innovator und Lehrer aus Deutschland

Alex Misko, ein modernes Fingerstyle-Gitarren-Wunderkind, zieht sein Publikum weltweit in seinen Bann und repräsentiert eine bemerkenswerte neue Generation in seinem Handwerk. Von viralen Videos bis hin zur Carnegie Hall - seine Musik schlägt eine Brücke zwischen Alt und Neu und zieht die Menschen online und bei seinen Live-Shows in ihren Bann. Mit sechs Alben, weltweiten Tourneen und einem einzigartigen Instrument ist er ein wahrer Gitarren-Maestro.

Mit seinem besonderen Stil, der technische Innovation und Musikalität nahtlos miteinander verbindet, sprechen Miskos Originalkompositionen Zuhörer aus allen Gesellschaftsschichten an, da seine Musik kulturelle Grenzen überwindet und eine universelle Sprache spricht.

'Akustikgitarrist des Jahres (2018)' - MusicRadar Magazine (UK)
UID:20260417T064743-20270110T200000-20270111T000000
END:VEVENT
END:VCALENDAR