BEGIN:VCALENDAR
VERSION:2.0
PRODID:-//wildwechsel//wildwechsel.de//DE
METHOD:PUBLISH
CALSCALE:GREGORIAN
BEGIN:VEVENT
DTSTART:20260514T193000
DTEND:20260514T233000
LOCATION:KFZ Marburg\, \, Marburg
DTSTAMP:20260422T183757
SUMMARY:Ww-Terminator: Duo Stiehler/Lucaciu - Marburg
URL;VALUE=URI:https://www.wildwechsel.de/wildwechsel-terminator/event/duo-stiehler-lucaciu-kfz-marburg-marburg-267281/
CLASS:PUBLIC
DESCRIPTION:Einfache Sprache: Sascha Stiehler und Antonio Lucaciu machen zusammen Musik. Sie spielen verschiedene Instrumente. Klavier, Saxofon und Synthesizer.

‍

Das Duo Stiehler/Lucaciu steht für eine einzigartige Fusion, in der Klassik auf Jazz und Comedy auf Pop trifft - Musik zwischen dem Mut zum Augenschließen und Durchdrehen im Sitzen.
Sascha Stiehler und Antonio Lucaciu lernten sich vor über 22 Jahren bei einem Jugend-Musikwettbewerb kennen und sind seitdem nicht nur musikalisch beste Freunde.

Es wird ein Abend voller musikalischer Virtuosität, feinem Humor und jener seltenen Magie, die entsteht, wenn zwei Musiker seit Jahrzehnten blind aufeinander vertrauen.
UID:20260422T183757-20260514T193000-20260514T233000
END:VEVENT
END:VCALENDAR