BEGIN:VCALENDAR
VERSION:2.0
PRODID:-//wildwechsel//wildwechsel.de//DE
METHOD:PUBLISH
CALSCALE:GREGORIAN
BEGIN:VEVENT
DTSTART:20260526T154500
DTEND:20260526T194500
LOCATION:KFZ Marburg\, \, Marburg
DTSTAMP:20260422T200240
SUMMARY:Ww-Terminator: DRK-Blutspende im KFZ - Marburg
URL;VALUE=URI:https://www.wildwechsel.de/wildwechsel-terminator/event/drk-blutspende-im-kfz-kfz-marburg-267276/www.facebook.com/drkmittelhessen/
CLASS:PUBLIC
DESCRIPTION:Mit kostenloser Food Truck Aktion als Dankeschön für die Spendenden

‍© DRK

Einfache Sprache: Menschen können im KFZ Blut spenden.

‍

In Deutschland werden jeden Tag rund 15.000 Blutspenden gebraucht - bei Unfällen, Geburten, lebenswichtigen Operationen, Krebsbehandlungen oder chronischen Erkrankungen. Blut ist unverzichtbar und kann nicht künstlich hergestellt werden.

Die Blutspende gehört zu den einfachsten und schnellsten guten Taten: Benötigt wird maximal eine Stunde Zeit, davon dauert die reine Blutentnahme nur knapp 10-15 Minuten. Abgenommen werden 500 Milliliter Blut. Gespendet werden darf sogar mehrfach im Jahr im Abstand von 56 Tagen - Frauen dürfen bis zu vier, Männer bis zu sechs Mal innerhalb von 12 Monaten spenden. Jede Spende ist ein wichtiger Schritt, um den dringenden Bedarf für Patient*innen zu decken. Eine Blutspende kann bis zu drei Menschen helfen.

Direkt Blutspendetermin online reservieren unter www.blutspende.de/termine oder kostenlos über 0800 11 949 11.

Mit Gratisversorgung vom Foodtruck als Dank für Ihre Spende! Spender*innen haben die Chance auf den Gewinn eines KFZ-Gutscheins in Höhe von 30,00 Euro.

‍

www.blutspenden.de ' www.instagram.com/drk_marburg_giessen  ' www.facebook.com/drkmittelhessen

‍

Beginn: 15:45 Uhr

‍

Veranstalter*in: KFZ in Kooperation mit DRK- Hessen
UID:20260422T200240-20260526T154500-20260526T194500
END:VEVENT
END:VCALENDAR